BEGIN:VCALENDAR
VERSION:2.0
PRODID:spatie/icalendar-generator
NAME:2025 Accounting & Auditing Update for Small Businesses
X-WR-CALNAME:2025 Accounting & Auditing Update for Small Businesses
BEGIN:VTIMEZONE
TZID:America/New_York
BEGIN:STANDARD
DTSTART:20251102T010000
TZOFFSETFROM:-0400
TZOFFSETTO:-0500
END:STANDARD
BEGIN:DAYLIGHT
DTSTART:20260308T010000
TZOFFSETFROM:-0500
TZOFFSETTO:-0400
END:DAYLIGHT
END:VTIMEZONE
BEGIN:VTIMEZONE
TZID:UTC
BEGIN:STANDARD
DTSTART:20250727T162920
TZOFFSETFROM:+0000
TZOFFSETTO:+0000
END:STANDARD
END:VTIMEZONE
BEGIN:VEVENT
UID:69ea48e0afd43
DTSTAMP:20260423T162920Z
SUMMARY:2025 Accounting & Auditing Update for Small Businesses
LOCATION: 
URL:https://macpa.org/catalog/events/21243461-2025-accounting-auditing-upda
 te-for-small-businesses-2026-13-04
DTSTART;TZID=America/New_York:20260413T110000
DTEND;TZID=America/New_York:20260413T150000
END:VEVENT
END:VCALENDAR