BEGIN:VCALENDAR
VERSION:2.0
PRODID:spatie/icalendar-generator
NAME:Love it or Leave It: Engagement and Retention at Work
X-WR-CALNAME:Love it or Leave It: Engagement and Retention at Work
BEGIN:VTIMEZONE
TZID:America/New_York
BEGIN:STANDARD
DTSTART:20251102T010000
TZOFFSETFROM:-0400
TZOFFSETTO:-0500
END:STANDARD
BEGIN:DAYLIGHT
DTSTART:20260308T010000
TZOFFSETFROM:-0500
TZOFFSETTO:-0400
END:DAYLIGHT
END:VTIMEZONE
BEGIN:VTIMEZONE
TZID:UTC
BEGIN:STANDARD
DTSTART:20250727T134153
TZOFFSETFROM:+0000
TZOFFSETTO:+0000
END:STANDARD
END:VTIMEZONE
BEGIN:VEVENT
UID:69ea21a18caf0
DTSTAMP:20260423T134153Z
SUMMARY:Love it or Leave It: Engagement and Retention at Work
LOCATION: 
URL:https://macpa.org/catalog/events/21243444-love-it-or-leave-it-engagemen
 t-and-retention-at-work-2026-13-04
DTSTART;TZID=America/New_York:20260413T093000
DTEND;TZID=America/New_York:20260413T113000
END:VEVENT
END:VCALENDAR