BEGIN:VCALENDAR
VERSION:2.0
PRODID:spatie/icalendar-generator
NAME:Navigating IRS Collections: The Collection Process
X-WR-CALNAME:Navigating IRS Collections: The Collection Process
BEGIN:VTIMEZONE
TZID:America/New_York
BEGIN:STANDARD
DTSTART:20251102T010000
TZOFFSETFROM:-0400
TZOFFSETTO:-0500
END:STANDARD
BEGIN:DAYLIGHT
DTSTART:20260308T010000
TZOFFSETFROM:-0500
TZOFFSETTO:-0400
END:DAYLIGHT
END:VTIMEZONE
BEGIN:VTIMEZONE
TZID:UTC
BEGIN:STANDARD
DTSTART:20250727T094400
TZOFFSETFROM:+0000
TZOFFSETTO:+0000
END:STANDARD
END:VTIMEZONE
BEGIN:VEVENT
UID:69e9e9e081624
DTSTAMP:20260423T094400Z
SUMMARY:Navigating IRS Collections: The Collection Process
LOCATION: 
URL:https://macpa.org/catalog/events/21243407-navigating-irs-collections-th
 e-collection-process-2026-15-01
DTSTART;TZID=America/New_York:20260115T110000
DTEND;TZID=America/New_York:20260115T130000
END:VEVENT
END:VCALENDAR