BEGIN:VCALENDAR
VERSION:2.0
PRODID:spatie/icalendar-generator
NAME:Using AI to Instantly Transform Ideas into Revenue Streams
X-WR-CALNAME:Using AI to Instantly Transform Ideas into Revenue Streams
BEGIN:VTIMEZONE
TZID:America/New_York
BEGIN:STANDARD
DTSTART:20251102T010000
TZOFFSETFROM:-0400
TZOFFSETTO:-0500
END:STANDARD
BEGIN:DAYLIGHT
DTSTART:20260308T010000
TZOFFSETFROM:-0500
TZOFFSETTO:-0400
END:DAYLIGHT
END:VTIMEZONE
BEGIN:VTIMEZONE
TZID:UTC
BEGIN:STANDARD
DTSTART:20250727T162443
TZOFFSETFROM:+0000
TZOFFSETTO:+0000
END:STANDARD
END:VTIMEZONE
BEGIN:VEVENT
UID:69ea47cba443e
DTSTAMP:20260423T162443Z
SUMMARY:Using AI to Instantly Transform Ideas into Revenue Streams
LOCATION: 
URL:https://macpa.org/catalog/events/21243380-using-ai-to-instantly-transfo
 rm-ideas-into-revenue-streams-2026-11-04
DTSTART;TZID=America/New_York:20260411T113000
DTEND;TZID=America/New_York:20260411T133000
END:VEVENT
END:VCALENDAR