BEGIN:VCALENDAR
VERSION:2.0
PRODID:spatie/icalendar-generator
NAME:Reasonable Compensation for S Corps
X-WR-CALNAME:Reasonable Compensation for S Corps
BEGIN:VTIMEZONE
TZID:America/New_York
BEGIN:STANDARD
DTSTART:20251102T010000
TZOFFSETFROM:-0400
TZOFFSETTO:-0500
END:STANDARD
BEGIN:DAYLIGHT
DTSTART:20260308T010000
TZOFFSETFROM:-0500
TZOFFSETTO:-0400
END:DAYLIGHT
END:VTIMEZONE
BEGIN:VTIMEZONE
TZID:UTC
BEGIN:STANDARD
DTSTART:20250727T162438
TZOFFSETFROM:+0000
TZOFFSETTO:+0000
END:STANDARD
END:VTIMEZONE
BEGIN:VEVENT
UID:69ea47c6e6c44
DTSTAMP:20260423T162438Z
SUMMARY:Reasonable Compensation for S Corps
LOCATION: 
URL:https://macpa.org/catalog/events/21243366-reasonable-compensation-for-s
 -corps-2026-15-01
DTSTART;TZID=America/New_York:20260115T093000
DTEND;TZID=America/New_York:20260115T113000
END:VEVENT
END:VCALENDAR