BEGIN:VCALENDAR
VERSION:2.0
PRODID:spatie/icalendar-generator
NAME:Creating an Ethical Work Environment
X-WR-CALNAME:Creating an Ethical Work Environment
BEGIN:VTIMEZONE
TZID:America/New_York
BEGIN:STANDARD
DTSTART:20251102T010000
TZOFFSETFROM:-0400
TZOFFSETTO:-0500
END:STANDARD
BEGIN:DAYLIGHT
DTSTART:20260308T010000
TZOFFSETFROM:-0500
TZOFFSETTO:-0400
END:DAYLIGHT
END:VTIMEZONE
BEGIN:VTIMEZONE
TZID:UTC
BEGIN:STANDARD
DTSTART:20250727T132855
TZOFFSETFROM:+0000
TZOFFSETTO:+0000
END:STANDARD
END:VTIMEZONE
BEGIN:VEVENT
UID:69ea1e9707963
DTSTAMP:20260423T132855Z
SUMMARY:Creating an Ethical Work Environment
LOCATION: 
URL:https://macpa.org/catalog/events/21243365-creating-an-ethical-work-envi
 ronment-2026-11-04
DTSTART;TZID=America/New_York:20260411T103000
DTEND;TZID=America/New_York:20260411T123000
END:VEVENT
END:VCALENDAR