BEGIN:VCALENDAR
VERSION:2.0
PRODID:spatie/icalendar-generator
NAME:How Recent Auditing Standards Improve Risk-Based Audits
X-WR-CALNAME:How Recent Auditing Standards Improve Risk-Based Audits
BEGIN:VTIMEZONE
TZID:America/New_York
BEGIN:STANDARD
DTSTART:20251102T010000
TZOFFSETFROM:-0400
TZOFFSETTO:-0500
END:STANDARD
BEGIN:DAYLIGHT
DTSTART:20260308T010000
TZOFFSETFROM:-0500
TZOFFSETTO:-0400
END:DAYLIGHT
END:VTIMEZONE
BEGIN:VTIMEZONE
TZID:UTC
BEGIN:STANDARD
DTSTART:20250727T095025
TZOFFSETFROM:+0000
TZOFFSETTO:+0000
END:STANDARD
END:VTIMEZONE
BEGIN:VEVENT
UID:69e9eb6104389
DTSTAMP:20260423T095025Z
SUMMARY:How Recent Auditing Standards Improve Risk-Based Audits
LOCATION: 
URL:https://macpa.org/catalog/events/21243352-how-recent-auditing-standards
 -improve-risk-based-audits-2026-11-04
DTSTART;TZID=America/New_York:20260411T100000
DTEND;TZID=America/New_York:20260411T140000
END:VEVENT
END:VCALENDAR