BEGIN:VCALENDAR
VERSION:2.0
PRODID:spatie/icalendar-generator
NAME:Entertainment\, Meals & Travel Expenses: Review and Update
X-WR-CALNAME:Entertainment\, Meals & Travel Expenses: Review and Update
BEGIN:VTIMEZONE
TZID:America/New_York
BEGIN:STANDARD
DTSTART:20251102T010000
TZOFFSETFROM:-0400
TZOFFSETTO:-0500
END:STANDARD
BEGIN:DAYLIGHT
DTSTART:20260308T010000
TZOFFSETFROM:-0500
TZOFFSETTO:-0400
END:DAYLIGHT
END:VTIMEZONE
BEGIN:VTIMEZONE
TZID:UTC
BEGIN:STANDARD
DTSTART:20250727T133625
TZOFFSETFROM:+0000
TZOFFSETTO:+0000
END:STANDARD
END:VTIMEZONE
BEGIN:VEVENT
UID:69ea20596e143
DTSTAMP:20260423T133625Z
SUMMARY:Entertainment\, Meals & Travel Expenses: Review and Update
LOCATION: 
URL:https://macpa.org/catalog/events/21243349-entertainment-meals-travel-ex
 penses-review-and-update-2026-11-04
DTSTART;TZID=America/New_York:20260411T100000
DTEND;TZID=America/New_York:20260411T120000
END:VEVENT
END:VCALENDAR