BEGIN:VCALENDAR
VERSION:2.0
PRODID:spatie/icalendar-generator
NAME:GPT Builder for Accountants
X-WR-CALNAME:GPT Builder for Accountants
BEGIN:VTIMEZONE
TZID:America/New_York
BEGIN:STANDARD
DTSTART:20251102T010000
TZOFFSETFROM:-0400
TZOFFSETTO:-0500
END:STANDARD
BEGIN:DAYLIGHT
DTSTART:20260308T010000
TZOFFSETFROM:-0500
TZOFFSETTO:-0400
END:DAYLIGHT
END:VTIMEZONE
BEGIN:VTIMEZONE
TZID:UTC
BEGIN:STANDARD
DTSTART:20250727T113854
TZOFFSETFROM:+0000
TZOFFSETTO:+0000
END:STANDARD
END:VTIMEZONE
BEGIN:VEVENT
UID:69ea04ce998c1
DTSTAMP:20260423T113854Z
SUMMARY:GPT Builder for Accountants
LOCATION: 
URL:https://macpa.org/catalog/events/21243334-gpt-builder-for-accountants-2
 026-15-01
DTSTART;TZID=America/New_York:20260115T090000
DTEND;TZID=America/New_York:20260115T110000
END:VEVENT
END:VCALENDAR