BEGIN:VCALENDAR
VERSION:2.0
PRODID:spatie/icalendar-generator
NAME:How to Start a CFO Service
X-WR-CALNAME:How to Start a CFO Service
BEGIN:VTIMEZONE
TZID:America/New_York
BEGIN:STANDARD
DTSTART:20251102T010000
TZOFFSETFROM:-0400
TZOFFSETTO:-0500
END:STANDARD
BEGIN:DAYLIGHT
DTSTART:20260308T010000
TZOFFSETFROM:-0500
TZOFFSETTO:-0400
END:DAYLIGHT
END:VTIMEZONE
BEGIN:VTIMEZONE
TZID:UTC
BEGIN:STANDARD
DTSTART:20250727T094903
TZOFFSETFROM:+0000
TZOFFSETTO:+0000
END:STANDARD
END:VTIMEZONE
BEGIN:VEVENT
UID:69e9eb0f02dc7
DTSTAMP:20260423T094903Z
SUMMARY:How to Start a CFO Service
LOCATION: 
URL:https://macpa.org/catalog/events/21243305-how-to-start-a-cfo-service-20
 26-14-01
DTSTART;TZID=America/New_York:20260114T170000
DTEND;TZID=America/New_York:20260114T180000
END:VEVENT
END:VCALENDAR