BEGIN:VCALENDAR
VERSION:2.0
PRODID:spatie/icalendar-generator
NAME:Business Partnerships: Managing Supplier Relationships
X-WR-CALNAME:Business Partnerships: Managing Supplier Relationships
BEGIN:VTIMEZONE
TZID:America/New_York
BEGIN:STANDARD
DTSTART:20251102T010000
TZOFFSETFROM:-0400
TZOFFSETTO:-0500
END:STANDARD
BEGIN:DAYLIGHT
DTSTART:20260308T010000
TZOFFSETFROM:-0500
TZOFFSETTO:-0400
END:DAYLIGHT
END:VTIMEZONE
BEGIN:VTIMEZONE
TZID:UTC
BEGIN:STANDARD
DTSTART:20250727T150338
TZOFFSETFROM:+0000
TZOFFSETTO:+0000
END:STANDARD
END:VTIMEZONE
BEGIN:VEVENT
UID:69ea34cad8773
DTSTAMP:20260423T150338Z
SUMMARY:Business Partnerships: Managing Supplier Relationships
LOCATION: 
URL:https://macpa.org/catalog/events/21243301-business-partnerships-managin
 g-supplier-relationships-2026-11-04
DTSTART;TZID=America/New_York:20260411T090000
DTEND;TZID=America/New_York:20260411T100000
END:VEVENT
END:VCALENDAR