BEGIN:VCALENDAR
VERSION:2.0
PRODID:spatie/icalendar-generator
NAME:How to Build a Custom AI Chatbot and GPT in Plain English
X-WR-CALNAME:How to Build a Custom AI Chatbot and GPT in Plain English
BEGIN:VTIMEZONE
TZID:America/New_York
BEGIN:STANDARD
DTSTART:20251102T010000
TZOFFSETFROM:-0400
TZOFFSETTO:-0500
END:STANDARD
BEGIN:DAYLIGHT
DTSTART:20260308T010000
TZOFFSETFROM:-0500
TZOFFSETTO:-0400
END:DAYLIGHT
END:VTIMEZONE
BEGIN:VTIMEZONE
TZID:UTC
BEGIN:STANDARD
DTSTART:20250727T163434
TZOFFSETFROM:+0000
TZOFFSETTO:+0000
END:STANDARD
END:VTIMEZONE
BEGIN:VEVENT
UID:69ea4a1aeb6e6
DTSTAMP:20260423T163434Z
SUMMARY:How to Build a Custom AI Chatbot and GPT in Plain English
LOCATION: 
URL:https://macpa.org/catalog/events/21243296-how-to-build-a-custom-ai-chat
 bot-and-gpt-in-plain-english-2026-26-02
DTSTART;TZID=America/New_York:20260226T150000
DTEND;TZID=America/New_York:20260226T170000
END:VEVENT
END:VCALENDAR