BEGIN:VCALENDAR
VERSION:2.0
PRODID:spatie/icalendar-generator
NAME:Supporting Mental Wellness to Thrive in Work and Life
X-WR-CALNAME:Supporting Mental Wellness to Thrive in Work and Life
BEGIN:VTIMEZONE
TZID:America/New_York
BEGIN:STANDARD
DTSTART:20251102T010000
TZOFFSETFROM:-0400
TZOFFSETTO:-0500
END:STANDARD
BEGIN:DAYLIGHT
DTSTART:20260308T010000
TZOFFSETFROM:-0500
TZOFFSETTO:-0400
END:DAYLIGHT
END:VTIMEZONE
BEGIN:VTIMEZONE
TZID:UTC
BEGIN:STANDARD
DTSTART:20250727T094638
TZOFFSETFROM:+0000
TZOFFSETTO:+0000
END:STANDARD
END:VTIMEZONE
BEGIN:VEVENT
UID:69e9ea7e3bbb6
DTSTAMP:20260423T094638Z
SUMMARY:Supporting Mental Wellness to Thrive in Work and Life
LOCATION: 
URL:https://macpa.org/catalog/events/21243284-supporting-mental-wellness-to
 -thrive-in-work-and-life-2026-26-02
DTSTART;TZID=America/New_York:20260226T140000
DTEND;TZID=America/New_York:20260226T160000
END:VEVENT
END:VCALENDAR