BEGIN:VCALENDAR
VERSION:2.0
PRODID:spatie/icalendar-generator
NAME:Business Tax Update: Recent Developments
X-WR-CALNAME:Business Tax Update: Recent Developments
BEGIN:VTIMEZONE
TZID:America/New_York
BEGIN:STANDARD
DTSTART:20251102T010000
TZOFFSETFROM:-0400
TZOFFSETTO:-0500
END:STANDARD
BEGIN:DAYLIGHT
DTSTART:20260308T010000
TZOFFSETFROM:-0500
TZOFFSETTO:-0400
END:DAYLIGHT
END:VTIMEZONE
BEGIN:VTIMEZONE
TZID:UTC
BEGIN:STANDARD
DTSTART:20250727T094736
TZOFFSETFROM:+0000
TZOFFSETTO:+0000
END:STANDARD
END:VTIMEZONE
BEGIN:VEVENT
UID:69e9eab8dfebf
DTSTAMP:20260423T094736Z
SUMMARY:Business Tax Update: Recent Developments
LOCATION: 
URL:https://macpa.org/catalog/events/21243260-business-tax-update-recent-de
 velopments-2026-14-01
DTSTART;TZID=America/New_York:20260114T150000
DTEND;TZID=America/New_York:20260114T170000
END:VEVENT
END:VCALENDAR