BEGIN:VCALENDAR
VERSION:2.0
PRODID:spatie/icalendar-generator
NAME:Generative AI in Practice-Boost Efficiency and Profitability
X-WR-CALNAME:Generative AI in Practice-Boost Efficiency and Profitability
BEGIN:VTIMEZONE
TZID:America/New_York
BEGIN:STANDARD
DTSTART:20251102T010000
TZOFFSETFROM:-0400
TZOFFSETTO:-0500
END:STANDARD
BEGIN:DAYLIGHT
DTSTART:20260308T010000
TZOFFSETFROM:-0500
TZOFFSETTO:-0400
END:DAYLIGHT
END:VTIMEZONE
BEGIN:VTIMEZONE
TZID:UTC
BEGIN:STANDARD
DTSTART:20250727T162418
TZOFFSETFROM:+0000
TZOFFSETTO:+0000
END:STANDARD
END:VTIMEZONE
BEGIN:VEVENT
UID:69ea47b230d40
DTSTAMP:20260423T162418Z
SUMMARY:Generative AI in Practice-Boost Efficiency and Profitability
LOCATION: 
URL:https://macpa.org/catalog/events/21243199-generative-ai-in-practice-boo
 st-efficiency-and-profitability-2026-14-01
DTSTART;TZID=America/New_York:20260114T130000
DTEND;TZID=America/New_York:20260114T150000
END:VEVENT
END:VCALENDAR