BEGIN:VCALENDAR
VERSION:2.0
PRODID:spatie/icalendar-generator
NAME:Fraud & Embezzlement: Case Studies from the Trenches
X-WR-CALNAME:Fraud & Embezzlement: Case Studies from the Trenches
BEGIN:VTIMEZONE
TZID:America/New_York
BEGIN:STANDARD
DTSTART:20251102T010000
TZOFFSETFROM:-0400
TZOFFSETTO:-0500
END:STANDARD
BEGIN:DAYLIGHT
DTSTART:20260308T010000
TZOFFSETFROM:-0500
TZOFFSETTO:-0400
END:DAYLIGHT
END:VTIMEZONE
BEGIN:VTIMEZONE
TZID:UTC
BEGIN:STANDARD
DTSTART:20250727T211905
TZOFFSETFROM:+0000
TZOFFSETTO:+0000
END:STANDARD
END:VTIMEZONE
BEGIN:VEVENT
UID:69ea8cc93f728
DTSTAMP:20260423T211905Z
SUMMARY:Fraud & Embezzlement: Case Studies from the Trenches
LOCATION: 
URL:https://macpa.org/catalog/events/21243157-fraud-embezzlement-case-studi
 es-from-the-trenches-2026-26-02
DTSTART;TZID=America/New_York:20260226T103000
DTEND;TZID=America/New_York:20260226T123000
END:VEVENT
END:VCALENDAR