BEGIN:VCALENDAR
VERSION:2.0
PRODID:spatie/icalendar-generator
NAME:Risk Assessment Under SAS No. 145: The Key to Audit Quality?
X-WR-CALNAME:Risk Assessment Under SAS No. 145: The Key to Audit Quality?
BEGIN:VTIMEZONE
TZID:America/New_York
BEGIN:STANDARD
DTSTART:20251102T010000
TZOFFSETFROM:-0400
TZOFFSETTO:-0500
END:STANDARD
BEGIN:DAYLIGHT
DTSTART:20260308T010000
TZOFFSETFROM:-0500
TZOFFSETTO:-0400
END:DAYLIGHT
END:VTIMEZONE
BEGIN:VTIMEZONE
TZID:UTC
BEGIN:STANDARD
DTSTART:20250727T113644
TZOFFSETFROM:+0000
TZOFFSETTO:+0000
END:STANDARD
END:VTIMEZONE
BEGIN:VEVENT
UID:69ea044ce535d
DTSTAMP:20260423T113644Z
SUMMARY:Risk Assessment Under SAS No. 145: The Key to Audit Quality?
LOCATION: 
URL:https://macpa.org/catalog/events/21243154-risk-assessment-under-sas-no-
 145-the-key-to-audit-quality-2026-14-01
DTSTART;TZID=America/New_York:20260114T113000
DTEND;TZID=America/New_York:20260114T133000
END:VEVENT
END:VCALENDAR