BEGIN:VCALENDAR
VERSION:2.0
PRODID:spatie/icalendar-generator
NAME:Enterprise-Wide Risk Management in Accounting and Finance
X-WR-CALNAME:Enterprise-Wide Risk Management in Accounting and Finance
BEGIN:VTIMEZONE
TZID:America/New_York
BEGIN:STANDARD
DTSTART:20251102T010000
TZOFFSETFROM:-0400
TZOFFSETTO:-0500
END:STANDARD
BEGIN:DAYLIGHT
DTSTART:20260308T010000
TZOFFSETFROM:-0500
TZOFFSETTO:-0400
END:DAYLIGHT
END:VTIMEZONE
BEGIN:VTIMEZONE
TZID:UTC
BEGIN:STANDARD
DTSTART:20250727T163436
TZOFFSETFROM:+0000
TZOFFSETTO:+0000
END:STANDARD
END:VTIMEZONE
BEGIN:VEVENT
UID:69ea4a1cec7de
DTSTAMP:20260423T163436Z
SUMMARY:Enterprise-Wide Risk Management in Accounting and Finance
LOCATION: 
URL:https://macpa.org/catalog/events/21243150-enterprise-wide-risk-manageme
 nt-in-accounting-and-finance-2026-14-01
DTSTART;TZID=America/New_York:20260114T113000
DTEND;TZID=America/New_York:20260114T153000
END:VEVENT
END:VCALENDAR