BEGIN:VCALENDAR
VERSION:2.0
PRODID:spatie/icalendar-generator
NAME:Navigating IRS Correspondence: Responding to IRS Letters
X-WR-CALNAME:Navigating IRS Correspondence: Responding to IRS Letters
BEGIN:VTIMEZONE
TZID:America/New_York
BEGIN:STANDARD
DTSTART:20251102T010000
TZOFFSETFROM:-0400
TZOFFSETTO:-0500
END:STANDARD
BEGIN:DAYLIGHT
DTSTART:20260308T010000
TZOFFSETFROM:-0500
TZOFFSETTO:-0400
END:DAYLIGHT
END:VTIMEZONE
BEGIN:VTIMEZONE
TZID:UTC
BEGIN:STANDARD
DTSTART:20250727T095109
TZOFFSETFROM:+0000
TZOFFSETTO:+0000
END:STANDARD
END:VTIMEZONE
BEGIN:VEVENT
UID:69e9eb8d98706
DTSTAMP:20260423T095109Z
SUMMARY:Navigating IRS Correspondence: Responding to IRS Letters
LOCATION: 
URL:https://macpa.org/catalog/events/21243140-navigating-irs-correspondence
 -responding-to-irs-letters-2026-10-04
DTSTART;TZID=America/New_York:20260410T113000
DTEND;TZID=America/New_York:20260410T133000
END:VEVENT
END:VCALENDAR