BEGIN:VCALENDAR
VERSION:2.0
PRODID:spatie/icalendar-generator
NAME:Corporate Transparency Act Developments
X-WR-CALNAME:Corporate Transparency Act Developments
BEGIN:VTIMEZONE
TZID:America/New_York
BEGIN:STANDARD
DTSTART:20251102T010000
TZOFFSETFROM:-0400
TZOFFSETTO:-0500
END:STANDARD
BEGIN:DAYLIGHT
DTSTART:20260308T010000
TZOFFSETFROM:-0500
TZOFFSETTO:-0400
END:DAYLIGHT
END:VTIMEZONE
BEGIN:VTIMEZONE
TZID:UTC
BEGIN:STANDARD
DTSTART:20250727T095047
TZOFFSETFROM:+0000
TZOFFSETTO:+0000
END:STANDARD
END:VTIMEZONE
BEGIN:VEVENT
UID:69e9eb775a124
DTSTAMP:20260423T095047Z
SUMMARY:Corporate Transparency Act Developments
LOCATION: 
URL:https://macpa.org/catalog/events/21243108-corporate-transparency-act-de
 velopments-2026-14-01
DTSTART;TZID=America/New_York:20260114T110000
DTEND;TZID=America/New_York:20260114T130000
END:VEVENT
END:VCALENDAR