BEGIN:VCALENDAR
VERSION:2.0
PRODID:spatie/icalendar-generator
NAME:Avoiding the Most Misapplied Audit Concepts
X-WR-CALNAME:Avoiding the Most Misapplied Audit Concepts
BEGIN:VTIMEZONE
TZID:America/New_York
BEGIN:STANDARD
DTSTART:20251102T010000
TZOFFSETFROM:-0400
TZOFFSETTO:-0500
END:STANDARD
BEGIN:DAYLIGHT
DTSTART:20260308T010000
TZOFFSETFROM:-0500
TZOFFSETTO:-0400
END:DAYLIGHT
END:VTIMEZONE
BEGIN:VTIMEZONE
TZID:UTC
BEGIN:STANDARD
DTSTART:20250727T132856
TZOFFSETFROM:+0000
TZOFFSETTO:+0000
END:STANDARD
END:VTIMEZONE
BEGIN:VEVENT
UID:69ea1e980242b
DTSTAMP:20260423T132856Z
SUMMARY:Avoiding the Most Misapplied Audit Concepts
LOCATION: 
URL:https://macpa.org/catalog/events/21243089-avoiding-the-most-misapplied-
 audit-concepts-2026-10-04
DTSTART;TZID=America/New_York:20260410T100000
DTEND;TZID=America/New_York:20260410T180000
END:VEVENT
END:VCALENDAR