BEGIN:VCALENDAR
VERSION:2.0
PRODID:spatie/icalendar-generator
NAME:AI Prompt Engineering Masterclass for Accountants
X-WR-CALNAME:AI Prompt Engineering Masterclass for Accountants
BEGIN:VTIMEZONE
TZID:America/New_York
BEGIN:STANDARD
DTSTART:20251102T010000
TZOFFSETFROM:-0400
TZOFFSETTO:-0500
END:STANDARD
BEGIN:DAYLIGHT
DTSTART:20260308T010000
TZOFFSETFROM:-0500
TZOFFSETTO:-0400
END:DAYLIGHT
END:VTIMEZONE
BEGIN:VTIMEZONE
TZID:UTC
BEGIN:STANDARD
DTSTART:20250727T132850
TZOFFSETFROM:+0000
TZOFFSETTO:+0000
END:STANDARD
END:VTIMEZONE
BEGIN:VEVENT
UID:69ea1e920dbc7
DTSTAMP:20260423T132850Z
SUMMARY:AI Prompt Engineering Masterclass for Accountants
LOCATION: 
URL:https://macpa.org/catalog/events/21243070-ai-prompt-engineering-masterc
 lass-for-accountants-2026-25-02
DTSTART;TZID=America/New_York:20260225T160000
DTEND;TZID=America/New_York:20260225T180000
END:VEVENT
END:VCALENDAR