BEGIN:VCALENDAR
VERSION:2.0
PRODID:spatie/icalendar-generator
NAME:Using ChatGPT with Excel
X-WR-CALNAME:Using ChatGPT with Excel
BEGIN:VTIMEZONE
TZID:America/New_York
BEGIN:STANDARD
DTSTART:20251102T010000
TZOFFSETFROM:-0400
TZOFFSETTO:-0500
END:STANDARD
BEGIN:DAYLIGHT
DTSTART:20260308T010000
TZOFFSETFROM:-0500
TZOFFSETTO:-0400
END:DAYLIGHT
END:VTIMEZONE
BEGIN:VTIMEZONE
TZID:UTC
BEGIN:STANDARD
DTSTART:20250727T132331
TZOFFSETFROM:+0000
TZOFFSETTO:+0000
END:STANDARD
END:VTIMEZONE
BEGIN:VEVENT
UID:69ea1d53d0dfe
DTSTAMP:20260423T132331Z
SUMMARY:Using ChatGPT with Excel
LOCATION: 
URL:https://macpa.org/catalog/events/21243065-using-chatgpt-with-excel-2026
 -14-01
DTSTART;TZID=America/New_York:20260114T090000
DTEND;TZID=America/New_York:20260114T110000
END:VEVENT
END:VCALENDAR