BEGIN:VCALENDAR
VERSION:2.0
PRODID:spatie/icalendar-generator
NAME:Installment sales: Maximize Tax Benefits and Stay Compliant
X-WR-CALNAME:Installment sales: Maximize Tax Benefits and Stay Compliant
BEGIN:VTIMEZONE
TZID:America/New_York
BEGIN:STANDARD
DTSTART:20251102T010000
TZOFFSETFROM:-0400
TZOFFSETTO:-0500
END:STANDARD
BEGIN:DAYLIGHT
DTSTART:20260308T010000
TZOFFSETFROM:-0500
TZOFFSETTO:-0400
END:DAYLIGHT
END:VTIMEZONE
BEGIN:VTIMEZONE
TZID:UTC
BEGIN:STANDARD
DTSTART:20250727T150209
TZOFFSETFROM:+0000
TZOFFSETTO:+0000
END:STANDARD
END:VTIMEZONE
BEGIN:VEVENT
UID:69ea3471189d8
DTSTAMP:20260423T150209Z
SUMMARY:Installment sales: Maximize Tax Benefits and Stay Compliant
LOCATION: 
URL:https://macpa.org/catalog/events/21243064-installment-sales-maximize-ta
 x-benefits-and-stay-compliant-2026-10-04
DTSTART;TZID=America/New_York:20260410T090000
DTEND;TZID=America/New_York:20260410T100000
END:VEVENT
END:VCALENDAR