BEGIN:VCALENDAR
VERSION:2.0
PRODID:spatie/icalendar-generator
NAME:Determining Reasonable Compensation for Owner Employees
X-WR-CALNAME:Determining Reasonable Compensation for Owner Employees
BEGIN:VTIMEZONE
TZID:America/New_York
BEGIN:STANDARD
DTSTART:20251102T010000
TZOFFSETFROM:-0400
TZOFFSETTO:-0500
END:STANDARD
BEGIN:DAYLIGHT
DTSTART:20260308T010000
TZOFFSETFROM:-0500
TZOFFSETTO:-0400
END:DAYLIGHT
END:VTIMEZONE
BEGIN:VTIMEZONE
TZID:UTC
BEGIN:STANDARD
DTSTART:20250727T095011
TZOFFSETFROM:+0000
TZOFFSETTO:+0000
END:STANDARD
END:VTIMEZONE
BEGIN:VEVENT
UID:69e9eb53d204d
DTSTAMP:20260423T095011Z
SUMMARY:Determining Reasonable Compensation for Owner Employees
LOCATION: 
URL:https://macpa.org/catalog/events/21243036-determining-reasonable-compen
 sation-for-owner-employees-2026-25-02
DTSTART;TZID=America/New_York:20260225T150000
DTEND;TZID=America/New_York:20260225T170000
END:VEVENT
END:VCALENDAR