BEGIN:VCALENDAR
VERSION:2.0
PRODID:spatie/icalendar-generator
NAME:Ethics and Technology for CPAs
X-WR-CALNAME:Ethics and Technology for CPAs
BEGIN:VTIMEZONE
TZID:America/New_York
BEGIN:STANDARD
DTSTART:20251102T010000
TZOFFSETFROM:-0400
TZOFFSETTO:-0500
END:STANDARD
BEGIN:DAYLIGHT
DTSTART:20260308T010000
TZOFFSETFROM:-0500
TZOFFSETTO:-0400
END:DAYLIGHT
END:VTIMEZONE
BEGIN:VTIMEZONE
TZID:UTC
BEGIN:STANDARD
DTSTART:20250727T094551
TZOFFSETFROM:+0000
TZOFFSETTO:+0000
END:STANDARD
END:VTIMEZONE
BEGIN:VEVENT
UID:69e9ea4f28eb0
DTSTAMP:20260423T094551Z
SUMMARY:Ethics and Technology for CPAs
LOCATION: 
URL:https://macpa.org/catalog/events/21243010-ethics-and-technology-for-cpa
 s-2026-09-04
DTSTART;TZID=America/New_York:20260409T153000
DTEND;TZID=America/New_York:20260409T173000
END:VEVENT
END:VCALENDAR