BEGIN:VCALENDAR
VERSION:2.0
PRODID:spatie/icalendar-generator
NAME:Mastering Microsoft 365 Copilot for CPAs
X-WR-CALNAME:Mastering Microsoft 365 Copilot for CPAs
BEGIN:VTIMEZONE
TZID:America/New_York
BEGIN:STANDARD
DTSTART:20251102T010000
TZOFFSETFROM:-0400
TZOFFSETTO:-0500
END:STANDARD
BEGIN:DAYLIGHT
DTSTART:20260308T010000
TZOFFSETFROM:-0500
TZOFFSETTO:-0400
END:DAYLIGHT
END:VTIMEZONE
BEGIN:VTIMEZONE
TZID:UTC
BEGIN:STANDARD
DTSTART:20250727T132854
TZOFFSETFROM:+0000
TZOFFSETTO:+0000
END:STANDARD
END:VTIMEZONE
BEGIN:VEVENT
UID:69ea1e96db87a
DTSTAMP:20260423T132854Z
SUMMARY:Mastering Microsoft 365 Copilot for CPAs
LOCATION: 
URL:https://macpa.org/catalog/events/21242996-mastering-microsoft-365-copil
 ot-for-cpas-2026-09-04
DTSTART;TZID=America/New_York:20260409T150000
DTEND;TZID=America/New_York:20260409T170000
END:VEVENT
END:VCALENDAR