BEGIN:VCALENDAR
VERSION:2.0
PRODID:spatie/icalendar-generator
NAME:Exercise Your Ethics: Techniques to Improve Ethical Response
X-WR-CALNAME:Exercise Your Ethics: Techniques to Improve Ethical Response
BEGIN:VTIMEZONE
TZID:America/New_York
BEGIN:STANDARD
DTSTART:20251102T010000
TZOFFSETFROM:-0400
TZOFFSETTO:-0500
END:STANDARD
BEGIN:DAYLIGHT
DTSTART:20260308T010000
TZOFFSETFROM:-0500
TZOFFSETTO:-0400
END:DAYLIGHT
END:VTIMEZONE
BEGIN:VTIMEZONE
TZID:UTC
BEGIN:STANDARD
DTSTART:20250727T094726
TZOFFSETFROM:+0000
TZOFFSETTO:+0000
END:STANDARD
END:VTIMEZONE
BEGIN:VEVENT
UID:69e9eaae8b404
DTSTAMP:20260423T094726Z
SUMMARY:Exercise Your Ethics: Techniques to Improve Ethical Response
LOCATION: 
URL:https://macpa.org/catalog/events/21242961-exercise-your-ethics-techniqu
 es-to-improve-ethical-response-2026-09-04
DTSTART;TZID=America/New_York:20260409T140000
DTEND;TZID=America/New_York:20260409T160000
END:VEVENT
END:VCALENDAR