BEGIN:VCALENDAR
VERSION:2.0
PRODID:spatie/icalendar-generator
NAME:Individual Tax Update: Recent Developments
X-WR-CALNAME:Individual Tax Update: Recent Developments
BEGIN:VTIMEZONE
TZID:America/New_York
BEGIN:STANDARD
DTSTART:20251102T010000
TZOFFSETFROM:-0400
TZOFFSETTO:-0500
END:STANDARD
BEGIN:DAYLIGHT
DTSTART:20260308T010000
TZOFFSETFROM:-0500
TZOFFSETTO:-0400
END:DAYLIGHT
END:VTIMEZONE
BEGIN:VTIMEZONE
TZID:UTC
BEGIN:STANDARD
DTSTART:20250727T132951
TZOFFSETFROM:+0000
TZOFFSETTO:+0000
END:STANDARD
END:VTIMEZONE
BEGIN:VEVENT
UID:69ea1ecf7abaf
DTSTAMP:20260423T132951Z
SUMMARY:Individual Tax Update: Recent Developments
LOCATION: 
URL:https://macpa.org/catalog/events/21242947-individual-tax-update-recent-
 developments-2026-13-01
DTSTART;TZID=America/New_York:20260113T140000
DTEND;TZID=America/New_York:20260113T160000
END:VEVENT
END:VCALENDAR