BEGIN:VCALENDAR
VERSION:2.0
PRODID:spatie/icalendar-generator
NAME:Generative AI Strategy for Accountants
X-WR-CALNAME:Generative AI Strategy for Accountants
BEGIN:VTIMEZONE
TZID:America/New_York
BEGIN:STANDARD
DTSTART:20251102T010000
TZOFFSETFROM:-0400
TZOFFSETTO:-0500
END:STANDARD
BEGIN:DAYLIGHT
DTSTART:20260308T010000
TZOFFSETFROM:-0500
TZOFFSETTO:-0400
END:DAYLIGHT
END:VTIMEZONE
BEGIN:VTIMEZONE
TZID:UTC
BEGIN:STANDARD
DTSTART:20250727T132856
TZOFFSETFROM:+0000
TZOFFSETTO:+0000
END:STANDARD
END:VTIMEZONE
BEGIN:VEVENT
UID:69ea1e9891d12
DTSTAMP:20260423T132856Z
SUMMARY:Generative AI Strategy for Accountants
LOCATION: 
URL:https://macpa.org/catalog/events/21242858-generative-ai-strategy-for-ac
 countants-2026-09-04
DTSTART;TZID=America/New_York:20260409T110000
DTEND;TZID=America/New_York:20260409T130000
END:VEVENT
END:VCALENDAR