BEGIN:VCALENDAR
VERSION:2.0
PRODID:spatie/icalendar-generator
NAME:Build Better Budgets: Fundamental Techniques
X-WR-CALNAME:Build Better Budgets: Fundamental Techniques
BEGIN:VTIMEZONE
TZID:America/New_York
BEGIN:STANDARD
DTSTART:20251102T010000
TZOFFSETFROM:-0400
TZOFFSETTO:-0500
END:STANDARD
BEGIN:DAYLIGHT
DTSTART:20260308T010000
TZOFFSETFROM:-0500
TZOFFSETTO:-0400
END:DAYLIGHT
END:VTIMEZONE
BEGIN:VTIMEZONE
TZID:UTC
BEGIN:STANDARD
DTSTART:20250727T094818
TZOFFSETFROM:+0000
TZOFFSETTO:+0000
END:STANDARD
END:VTIMEZONE
BEGIN:VEVENT
UID:69e9eae21a2b3
DTSTAMP:20260423T094818Z
SUMMARY:Build Better Budgets: Fundamental Techniques
LOCATION: 
URL:https://macpa.org/catalog/events/21242818-build-better-budgets-fundamen
 tal-techniques-2026-25-02
DTSTART;TZID=America/New_York:20260225T093000
DTEND;TZID=America/New_York:20260225T113000
END:VEVENT
END:VCALENDAR