BEGIN:VCALENDAR
VERSION:2.0
PRODID:spatie/icalendar-generator
NAME:Tech It to the Next Level: Slim Your Team for Max Efficiency
X-WR-CALNAME:Tech It to the Next Level: Slim Your Team for Max Efficiency
BEGIN:VTIMEZONE
TZID:America/New_York
BEGIN:STANDARD
DTSTART:20251102T010000
TZOFFSETFROM:-0400
TZOFFSETTO:-0500
END:STANDARD
BEGIN:DAYLIGHT
DTSTART:20260308T010000
TZOFFSETFROM:-0500
TZOFFSETTO:-0400
END:DAYLIGHT
END:VTIMEZONE
BEGIN:VTIMEZONE
TZID:UTC
BEGIN:STANDARD
DTSTART:20250727T133753
TZOFFSETFROM:+0000
TZOFFSETTO:+0000
END:STANDARD
END:VTIMEZONE
BEGIN:VEVENT
UID:69ea20b1b3cdf
DTSTAMP:20260423T133753Z
SUMMARY:Tech It to the Next Level: Slim Your Team for Max Efficiency
LOCATION: 
URL:https://macpa.org/catalog/events/21242766-tech-it-to-the-next-level-sli
 m-your-team-for-max-efficiency-2026-13-01
DTSTART;TZID=America/New_York:20260113T093000
DTEND;TZID=America/New_York:20260113T103000
END:VEVENT
END:VCALENDAR