BEGIN:VCALENDAR
VERSION:2.0
PRODID:spatie/icalendar-generator
NAME:An Exhaustive Look At Fraud and Ways To Control It
X-WR-CALNAME:An Exhaustive Look At Fraud and Ways To Control It
BEGIN:VTIMEZONE
TZID:America/New_York
BEGIN:STANDARD
DTSTART:20251102T010000
TZOFFSETFROM:-0400
TZOFFSETTO:-0500
END:STANDARD
BEGIN:DAYLIGHT
DTSTART:20260308T010000
TZOFFSETFROM:-0500
TZOFFSETTO:-0400
END:DAYLIGHT
END:VTIMEZONE
BEGIN:VTIMEZONE
TZID:UTC
BEGIN:STANDARD
DTSTART:20250727T163258
TZOFFSETFROM:+0000
TZOFFSETTO:+0000
END:STANDARD
END:VTIMEZONE
BEGIN:VEVENT
UID:69ea49ba357d9
DTSTAMP:20260423T163258Z
SUMMARY:An Exhaustive Look At Fraud and Ways To Control It
LOCATION: 
URL:https://macpa.org/catalog/events/21242759-an-exhaustive-look-at-fraud-a
 nd-ways-to-control-it-2026-09-04
DTSTART;TZID=America/New_York:20260409T090000
DTEND;TZID=America/New_York:20260409T170000
END:VEVENT
END:VCALENDAR