BEGIN:VCALENDAR
VERSION:2.0
PRODID:spatie/icalendar-generator
NAME:Income Tax Analysis: Exploring In-Depth Concepts
X-WR-CALNAME:Income Tax Analysis: Exploring In-Depth Concepts
BEGIN:VTIMEZONE
TZID:America/New_York
BEGIN:STANDARD
DTSTART:20251102T010000
TZOFFSETFROM:-0400
TZOFFSETTO:-0500
END:STANDARD
BEGIN:DAYLIGHT
DTSTART:20260308T010000
TZOFFSETFROM:-0500
TZOFFSETTO:-0400
END:DAYLIGHT
END:VTIMEZONE
BEGIN:VTIMEZONE
TZID:UTC
BEGIN:STANDARD
DTSTART:20250727T094600
TZOFFSETFROM:+0000
TZOFFSETTO:+0000
END:STANDARD
END:VTIMEZONE
BEGIN:VEVENT
UID:69e9ea5894205
DTSTAMP:20260423T094600Z
SUMMARY:Income Tax Analysis: Exploring In-Depth Concepts
LOCATION: 
URL:https://macpa.org/catalog/events/21242719-income-tax-analysis-exploring
 -in-depth-concepts-2026-08-04
DTSTART;TZID=America/New_York:20260408T153000
DTEND;TZID=America/New_York:20260408T173000
END:VEVENT
END:VCALENDAR