BEGIN:VCALENDAR
VERSION:2.0
PRODID:spatie/icalendar-generator
NAME:Ethics and Civility in the Workplace
X-WR-CALNAME:Ethics and Civility in the Workplace
BEGIN:VTIMEZONE
TZID:America/New_York
BEGIN:STANDARD
DTSTART:20251102T010000
TZOFFSETFROM:-0400
TZOFFSETTO:-0500
END:STANDARD
BEGIN:DAYLIGHT
DTSTART:20260308T010000
TZOFFSETFROM:-0500
TZOFFSETTO:-0400
END:DAYLIGHT
END:VTIMEZONE
BEGIN:VTIMEZONE
TZID:UTC
BEGIN:STANDARD
DTSTART:20250727T133740
TZOFFSETFROM:+0000
TZOFFSETTO:+0000
END:STANDARD
END:VTIMEZONE
BEGIN:VEVENT
UID:69ea20a4cc29c
DTSTAMP:20260423T133740Z
SUMMARY:Ethics and Civility in the Workplace
LOCATION: 
URL:https://macpa.org/catalog/events/21242673-ethics-and-civility-in-the-wo
 rkplace-2026-12-01
DTSTART;TZID=America/New_York:20260112T160000
DTEND;TZID=America/New_York:20260112T180000
END:VEVENT
END:VCALENDAR