BEGIN:VCALENDAR
VERSION:2.0
PRODID:spatie/icalendar-generator
NAME:Mastering the Art of Conflict: CPA Transformative Strategies
X-WR-CALNAME:Mastering the Art of Conflict: CPA Transformative Strategies
BEGIN:VTIMEZONE
TZID:America/New_York
BEGIN:STANDARD
DTSTART:20251102T010000
TZOFFSETFROM:-0400
TZOFFSETTO:-0500
END:STANDARD
BEGIN:DAYLIGHT
DTSTART:20260308T010000
TZOFFSETFROM:-0500
TZOFFSETTO:-0400
END:DAYLIGHT
END:VTIMEZONE
BEGIN:VTIMEZONE
TZID:UTC
BEGIN:STANDARD
DTSTART:20250727T150421
TZOFFSETFROM:+0000
TZOFFSETTO:+0000
END:STANDARD
END:VTIMEZONE
BEGIN:VEVENT
UID:69ea34f5ae2b3
DTSTAMP:20260423T150421Z
SUMMARY:Mastering the Art of Conflict: CPA Transformative Strategies
LOCATION: 
URL:https://macpa.org/catalog/events/21242656-mastering-the-art-of-conflict
 -cpa-transformative-strategies-2026-24-02
DTSTART;TZID=America/New_York:20260224T140000
DTEND;TZID=America/New_York:20260224T180000
END:VEVENT
END:VCALENDAR