BEGIN:VCALENDAR
VERSION:2.0
PRODID:spatie/icalendar-generator
NAME:Synchronize Your Files to the Cloud with SharePoint -Updated
X-WR-CALNAME:Synchronize Your Files to the Cloud with SharePoint -Updated
BEGIN:VTIMEZONE
TZID:America/New_York
BEGIN:STANDARD
DTSTART:20251102T010000
TZOFFSETFROM:-0400
TZOFFSETTO:-0500
END:STANDARD
BEGIN:DAYLIGHT
DTSTART:20260308T010000
TZOFFSETFROM:-0500
TZOFFSETTO:-0400
END:DAYLIGHT
END:VTIMEZONE
BEGIN:VTIMEZONE
TZID:UTC
BEGIN:STANDARD
DTSTART:20250727T132953
TZOFFSETFROM:+0000
TZOFFSETTO:+0000
END:STANDARD
END:VTIMEZONE
BEGIN:VEVENT
UID:69ea1ed1bfaf7
DTSTAMP:20260423T132953Z
SUMMARY:Synchronize Your Files to the Cloud with SharePoint -Updated
LOCATION: 
URL:https://macpa.org/catalog/events/21242579-synchronize-your-files-to-the
 -cloud-with-sharepoint-updated-2026-12-01
DTSTART;TZID=America/New_York:20260112T133000
DTEND;TZID=America/New_York:20260112T153000
END:VEVENT
END:VCALENDAR