BEGIN:VCALENDAR
VERSION:2.0
PRODID:spatie/icalendar-generator
NAME:The CFO Who Went to Prison
X-WR-CALNAME:The CFO Who Went to Prison
BEGIN:VTIMEZONE
TZID:America/New_York
BEGIN:STANDARD
DTSTART:20251102T010000
TZOFFSETFROM:-0400
TZOFFSETTO:-0500
END:STANDARD
BEGIN:DAYLIGHT
DTSTART:20260308T010000
TZOFFSETFROM:-0500
TZOFFSETTO:-0400
END:DAYLIGHT
END:VTIMEZONE
BEGIN:VTIMEZONE
TZID:UTC
BEGIN:STANDARD
DTSTART:20250727T150236
TZOFFSETFROM:+0000
TZOFFSETTO:+0000
END:STANDARD
END:VTIMEZONE
BEGIN:VEVENT
UID:69ea348ce85fd
DTSTAMP:20260423T150236Z
SUMMARY:The CFO Who Went to Prison
LOCATION: 
URL:https://macpa.org/catalog/events/21242576-the-cfo-who-went-to-prison-20
 26-24-02
DTSTART;TZID=America/New_York:20260224T123000
DTEND;TZID=America/New_York:20260224T143000
END:VEVENT
END:VCALENDAR