BEGIN:VCALENDAR
VERSION:2.0
PRODID:spatie/icalendar-generator
NAME:Building a Better Budget in a Time of Uncertainty
X-WR-CALNAME:Building a Better Budget in a Time of Uncertainty
BEGIN:VTIMEZONE
TZID:America/New_York
BEGIN:STANDARD
DTSTART:20251102T010000
TZOFFSETFROM:-0400
TZOFFSETTO:-0500
END:STANDARD
BEGIN:DAYLIGHT
DTSTART:20260308T010000
TZOFFSETFROM:-0500
TZOFFSETTO:-0400
END:DAYLIGHT
END:VTIMEZONE
BEGIN:VTIMEZONE
TZID:UTC
BEGIN:STANDARD
DTSTART:20250727T133834
TZOFFSETFROM:+0000
TZOFFSETTO:+0000
END:STANDARD
END:VTIMEZONE
BEGIN:VEVENT
UID:69ea20da90a62
DTSTAMP:20260423T133834Z
SUMMARY:Building a Better Budget in a Time of Uncertainty
LOCATION: 
URL:https://macpa.org/catalog/events/21242559-building-a-better-budget-in-a
 -time-of-uncertainty-2026-24-02
DTSTART;TZID=America/New_York:20260224T120000
DTEND;TZID=America/New_York:20260224T160000
END:VEVENT
END:VCALENDAR