BEGIN:VCALENDAR
VERSION:2.0
PRODID:spatie/icalendar-generator
NAME:Forgotten Managerial Accounting Tools for CPAs
X-WR-CALNAME:Forgotten Managerial Accounting Tools for CPAs
BEGIN:VTIMEZONE
TZID:America/New_York
BEGIN:STANDARD
DTSTART:20251102T010000
TZOFFSETFROM:-0400
TZOFFSETTO:-0500
END:STANDARD
BEGIN:DAYLIGHT
DTSTART:20260308T010000
TZOFFSETFROM:-0500
TZOFFSETTO:-0400
END:DAYLIGHT
END:VTIMEZONE
BEGIN:VTIMEZONE
TZID:UTC
BEGIN:STANDARD
DTSTART:20250727T095011
TZOFFSETFROM:+0000
TZOFFSETTO:+0000
END:STANDARD
END:VTIMEZONE
BEGIN:VEVENT
UID:69e9eb53cecf1
DTSTAMP:20260423T095011Z
SUMMARY:Forgotten Managerial Accounting Tools for CPAs
LOCATION: 
URL:https://macpa.org/catalog/events/21242555-forgotten-managerial-accounti
 ng-tools-for-cpas-2026-12-01
DTSTART;TZID=America/New_York:20260112T123000
DTEND;TZID=America/New_York:20260112T143000
END:VEVENT
END:VCALENDAR