BEGIN:VCALENDAR
VERSION:2.0
PRODID:spatie/icalendar-generator
NAME:Forensic Accounting: Court Approved Methods of Proof
X-WR-CALNAME:Forensic Accounting: Court Approved Methods of Proof
BEGIN:VTIMEZONE
TZID:America/New_York
BEGIN:STANDARD
DTSTART:20251102T010000
TZOFFSETFROM:-0400
TZOFFSETTO:-0500
END:STANDARD
BEGIN:DAYLIGHT
DTSTART:20260308T010000
TZOFFSETFROM:-0500
TZOFFSETTO:-0400
END:DAYLIGHT
END:VTIMEZONE
BEGIN:VTIMEZONE
TZID:UTC
BEGIN:STANDARD
DTSTART:20250727T094439
TZOFFSETFROM:+0000
TZOFFSETTO:+0000
END:STANDARD
END:VTIMEZONE
BEGIN:VEVENT
UID:69e9ea070c7b0
DTSTAMP:20260423T094439Z
SUMMARY:Forensic Accounting: Court Approved Methods of Proof
LOCATION: 
URL:https://macpa.org/catalog/events/21242507-forensic-accounting-court-app
 roved-methods-of-proof-2026-24-02
DTSTART;TZID=America/New_York:20260224T110000
DTEND;TZID=America/New_York:20260224T150000
END:VEVENT
END:VCALENDAR