BEGIN:VCALENDAR
VERSION:2.0
PRODID:spatie/icalendar-generator
NAME:I Spy with My Little Eye ... an Illegality
X-WR-CALNAME:I Spy with My Little Eye ... an Illegality
BEGIN:VTIMEZONE
TZID:America/New_York
BEGIN:STANDARD
DTSTART:20251102T010000
TZOFFSETFROM:-0400
TZOFFSETTO:-0500
END:STANDARD
BEGIN:DAYLIGHT
DTSTART:20260308T010000
TZOFFSETFROM:-0500
TZOFFSETTO:-0400
END:DAYLIGHT
END:VTIMEZONE
BEGIN:VTIMEZONE
TZID:UTC
BEGIN:STANDARD
DTSTART:20250727T181658
TZOFFSETFROM:+0000
TZOFFSETTO:+0000
END:STANDARD
END:VTIMEZONE
BEGIN:VEVENT
UID:69ea621a8cae8
DTSTAMP:20260423T181658Z
SUMMARY:I Spy with My Little Eye ... an Illegality
LOCATION: 
URL:https://macpa.org/catalog/events/21242451-i-spy-with-my-little-eye-an-i
 llegality-2026-24-02
DTSTART;TZID=America/New_York:20260224T093000
DTEND;TZID=America/New_York:20260224T103000
END:VEVENT
END:VCALENDAR