BEGIN:VCALENDAR
VERSION:2.0
PRODID:spatie/icalendar-generator
NAME:Love it or Leave It: Engagement and Retention at Work
X-WR-CALNAME:Love it or Leave It: Engagement and Retention at Work
BEGIN:VTIMEZONE
TZID:America/New_York
BEGIN:STANDARD
DTSTART:20251102T010000
TZOFFSETFROM:-0400
TZOFFSETTO:-0500
END:STANDARD
BEGIN:DAYLIGHT
DTSTART:20260308T010000
TZOFFSETFROM:-0500
TZOFFSETTO:-0400
END:DAYLIGHT
END:VTIMEZONE
BEGIN:VTIMEZONE
TZID:UTC
BEGIN:STANDARD
DTSTART:20250727T150041
TZOFFSETFROM:+0000
TZOFFSETTO:+0000
END:STANDARD
END:VTIMEZONE
BEGIN:VEVENT
UID:69ea3419a6baf
DTSTAMP:20260423T150041Z
SUMMARY:Love it or Leave It: Engagement and Retention at Work
LOCATION: 
URL:https://macpa.org/catalog/events/21242425-love-it-or-leave-it-engagemen
 t-and-retention-at-work-2026-12-01
DTSTART;TZID=America/New_York:20260112T100000
DTEND;TZID=America/New_York:20260112T120000
END:VEVENT
END:VCALENDAR