BEGIN:VCALENDAR
VERSION:2.0
PRODID:spatie/icalendar-generator
NAME:Ethical Considerations of the New AICPA SSTS Rules
X-WR-CALNAME:Ethical Considerations of the New AICPA SSTS Rules
BEGIN:VTIMEZONE
TZID:America/New_York
BEGIN:STANDARD
DTSTART:20251102T010000
TZOFFSETFROM:-0400
TZOFFSETTO:-0500
END:STANDARD
BEGIN:DAYLIGHT
DTSTART:20260308T010000
TZOFFSETFROM:-0500
TZOFFSETTO:-0400
END:DAYLIGHT
END:VTIMEZONE
BEGIN:VTIMEZONE
TZID:UTC
BEGIN:STANDARD
DTSTART:20250727T133614
TZOFFSETFROM:+0000
TZOFFSETTO:+0000
END:STANDARD
END:VTIMEZONE
BEGIN:VEVENT
UID:69ea204e1b330
DTSTAMP:20260423T133614Z
SUMMARY:Ethical Considerations of the New AICPA SSTS Rules
LOCATION: 
URL:https://macpa.org/catalog/events/21242401-ethical-considerations-of-the
 -new-aicpa-ssts-rules-2026-24-02
DTSTART;TZID=America/New_York:20260224T090000
DTEND;TZID=America/New_York:20260224T110000
END:VEVENT
END:VCALENDAR