BEGIN:VCALENDAR
VERSION:2.0
PRODID:spatie/icalendar-generator
NAME:ChatGPT: What Every CPA Should Know-Updated
X-WR-CALNAME:ChatGPT: What Every CPA Should Know-Updated
BEGIN:VTIMEZONE
TZID:America/New_York
BEGIN:STANDARD
DTSTART:20251102T010000
TZOFFSETFROM:-0400
TZOFFSETTO:-0500
END:STANDARD
BEGIN:DAYLIGHT
DTSTART:20260308T010000
TZOFFSETFROM:-0500
TZOFFSETTO:-0400
END:DAYLIGHT
END:VTIMEZONE
BEGIN:VTIMEZONE
TZID:UTC
BEGIN:STANDARD
DTSTART:20250727T132856
TZOFFSETFROM:+0000
TZOFFSETTO:+0000
END:STANDARD
END:VTIMEZONE
BEGIN:VEVENT
UID:69ea1e98bea8a
DTSTAMP:20260423T132856Z
SUMMARY:ChatGPT: What Every CPA Should Know-Updated
LOCATION: 
URL:https://macpa.org/catalog/events/21242389-chatgpt-what-every-cpa-should
 -know-updated-2026-12-01
DTSTART;TZID=America/New_York:20260112T093000
DTEND;TZID=America/New_York:20260112T113000
END:VEVENT
END:VCALENDAR