BEGIN:VCALENDAR
VERSION:2.0
PRODID:spatie/icalendar-generator
NAME:Learning to Teach \"Tax\" as a Second Language
X-WR-CALNAME:Learning to Teach \"Tax\" as a Second Language
BEGIN:VTIMEZONE
TZID:America/New_York
BEGIN:STANDARD
DTSTART:20251102T010000
TZOFFSETFROM:-0400
TZOFFSETTO:-0500
END:STANDARD
BEGIN:DAYLIGHT
DTSTART:20260308T010000
TZOFFSETFROM:-0500
TZOFFSETTO:-0400
END:DAYLIGHT
END:VTIMEZONE
BEGIN:VTIMEZONE
TZID:UTC
BEGIN:STANDARD
DTSTART:20250727T150200
TZOFFSETFROM:+0000
TZOFFSETTO:+0000
END:STANDARD
END:VTIMEZONE
BEGIN:VEVENT
UID:69ea34688f2dd
DTSTAMP:20260423T150200Z
SUMMARY:Learning to Teach \"Tax\" as a Second Language
LOCATION: 
URL:https://macpa.org/catalog/events/21242388-learning-to-teach-tax-as-a-se
 cond-language-2026-07-04
DTSTART;TZID=America/New_York:20260407T170000
DTEND;TZID=America/New_York:20260407T180000
END:VEVENT
END:VCALENDAR