BEGIN:VCALENDAR
VERSION:2.0
PRODID:spatie/icalendar-generator
NAME:SECURE Act 2.0 and Updates (2025)
X-WR-CALNAME:SECURE Act 2.0 and Updates (2025)
BEGIN:VTIMEZONE
TZID:America/New_York
BEGIN:STANDARD
DTSTART:20251102T010000
TZOFFSETFROM:-0400
TZOFFSETTO:-0500
END:STANDARD
BEGIN:DAYLIGHT
DTSTART:20260308T010000
TZOFFSETFROM:-0500
TZOFFSETTO:-0400
END:DAYLIGHT
END:VTIMEZONE
BEGIN:VTIMEZONE
TZID:UTC
BEGIN:STANDARD
DTSTART:20250727T132855
TZOFFSETFROM:+0000
TZOFFSETTO:+0000
END:STANDARD
END:VTIMEZONE
BEGIN:VEVENT
UID:69ea1e974f88e
DTSTAMP:20260423T132855Z
SUMMARY:SECURE Act 2.0 and Updates (2025)
LOCATION: 
URL:https://macpa.org/catalog/events/21242305-secure-act-20-and-updates-202
 5-2026-23-02
DTSTART;TZID=America/New_York:20260223T150000
DTEND;TZID=America/New_York:20260223T170000
END:VEVENT
END:VCALENDAR