BEGIN:VCALENDAR
VERSION:2.0
PRODID:spatie/icalendar-generator
NAME:Leadershift: Drive Results Through Ethical Performance Mgmnt
X-WR-CALNAME:Leadershift: Drive Results Through Ethical Performance Mgmnt
BEGIN:VTIMEZONE
TZID:America/New_York
BEGIN:STANDARD
DTSTART:20251102T010000
TZOFFSETFROM:-0400
TZOFFSETTO:-0500
END:STANDARD
BEGIN:DAYLIGHT
DTSTART:20260308T010000
TZOFFSETFROM:-0500
TZOFFSETTO:-0400
END:DAYLIGHT
END:VTIMEZONE
BEGIN:VTIMEZONE
TZID:UTC
BEGIN:STANDARD
DTSTART:20250727T163438
TZOFFSETFROM:+0000
TZOFFSETTO:+0000
END:STANDARD
END:VTIMEZONE
BEGIN:VEVENT
UID:69ea4a1e02066
DTSTAMP:20260423T163438Z
SUMMARY:Leadershift: Drive Results Through Ethical Performance Mgmnt
LOCATION: 
URL:https://macpa.org/catalog/events/21242284-leadershift-drive-results-thr
 ough-ethical-performance-mgmnt-2026-23-02
DTSTART;TZID=America/New_York:20260223T140000
DTEND;TZID=America/New_York:20260223T180000
END:VEVENT
END:VCALENDAR