BEGIN:VCALENDAR
VERSION:2.0
PRODID:spatie/icalendar-generator
NAME:Talk This Way - Communication Skills for the CPA
X-WR-CALNAME:Talk This Way - Communication Skills for the CPA
BEGIN:VTIMEZONE
TZID:America/New_York
BEGIN:DAYLIGHT
DTSTART:20250309T010000
TZOFFSETFROM:-0500
TZOFFSETTO:-0400
END:DAYLIGHT
BEGIN:STANDARD
DTSTART:20251102T010000
TZOFFSETFROM:-0400
TZOFFSETTO:-0500
END:STANDARD
BEGIN:DAYLIGHT
DTSTART:20260308T010000
TZOFFSETFROM:-0500
TZOFFSETTO:-0400
END:DAYLIGHT
END:VTIMEZONE
BEGIN:VTIMEZONE
TZID:UTC
BEGIN:STANDARD
DTSTART:20250727T190436
TZOFFSETFROM:+0000
TZOFFSETTO:+0000
END:STANDARD
END:VTIMEZONE
BEGIN:VEVENT
UID:69ea6d4417b86
DTSTAMP:20260423T190436Z
SUMMARY:Talk This Way - Communication Skills for the CPA
LOCATION: 
URL:https://macpa.org/catalog/events/21242279-talk-this-way-communication-s
 kills-for-the-cpa-2025-26-11
DTSTART;TZID=America/New_York:20251126T093000
DTEND;TZID=America/New_York:20251126T113000
END:VEVENT
END:VCALENDAR