BEGIN:VCALENDAR
VERSION:2.0
PRODID:spatie/icalendar-generator
NAME:AI FAQs for Accountants
X-WR-CALNAME:AI FAQs for Accountants
BEGIN:VTIMEZONE
TZID:America/New_York
BEGIN:STANDARD
DTSTART:20251102T010000
TZOFFSETFROM:-0400
TZOFFSETTO:-0500
END:STANDARD
BEGIN:DAYLIGHT
DTSTART:20260308T010000
TZOFFSETFROM:-0500
TZOFFSETTO:-0400
END:DAYLIGHT
END:VTIMEZONE
BEGIN:VTIMEZONE
TZID:UTC
BEGIN:STANDARD
DTSTART:20250727T094438
TZOFFSETFROM:+0000
TZOFFSETTO:+0000
END:STANDARD
END:VTIMEZONE
BEGIN:VEVENT
UID:69e9ea06d281d
DTSTAMP:20260423T094438Z
SUMMARY:AI FAQs for Accountants
LOCATION: 
URL:https://macpa.org/catalog/events/21242270-ai-faqs-for-accountants-2026-
 23-02
DTSTART;TZID=America/New_York:20260223T140000
DTEND;TZID=America/New_York:20260223T160000
END:VEVENT
END:VCALENDAR